BEGIN:VCALENDAR
VERSION:2.0
PRODID:-//Heritage Hedge - ECPv6.15.12.2//NONSGML v1.0//EN
CALSCALE:GREGORIAN
METHOD:PUBLISH
X-WR-CALNAME:Heritage Hedge
X-ORIGINAL-URL:https://heritagehedge.com
X-WR-CALDESC:Events for Heritage Hedge
REFRESH-INTERVAL;VALUE=DURATION:PT1H
X-Robots-Tag:noindex
X-PUBLISHED-TTL:PT1H
BEGIN:VTIMEZONE
TZID:UTC
BEGIN:STANDARD
TZOFFSETFROM:+0000
TZOFFSETTO:+0000
TZNAME:UTC
DTSTART:20250101T000000
END:STANDARD
END:VTIMEZONE
BEGIN:VEVENT
DTSTART;TZID=UTC:20260329T103000
DTEND;TZID=UTC:20260329T113000
DTSTAMP:20260425T195644
CREATED:20260222T135054Z
LAST-MODIFIED:20260222T135054Z
UID:2253-1774780200-1774783800@heritagehedge.com
SUMMARY:Be the change school supply giveaway
DESCRIPTION:
URL:https://heritagehedge.com/churchevent/be-the-change-school-supply-giveaway-4/
END:VEVENT
BEGIN:VEVENT
DTSTART;TZID=UTC:20260329T180000
DTEND;TZID=UTC:20260329T200000
DTSTAMP:20260425T195644
CREATED:20260303T142640Z
LAST-MODIFIED:20260303T142640Z
UID:2267-1774807200-1774814400@heritagehedge.com
SUMMARY:Nathaniel Marlow speaking
DESCRIPTION:
URL:https://heritagehedge.com/churchevent/nathaniel-marlow-speaking/
END:VEVENT
END:VCALENDAR